Workbook

Sheet PARTs 1-2-3-4
C1: European Centre for the Development of Vocational Training Europe 123, Thessaloniki, Greece cedefop.europa.eu Email: cei-applications@cedefop.europa.eu www.cedefop.europa.eu
B3: Call for Expression of Interest - CEDEFOP/2026/CEI/0001
B5: Establishment of a List of External Experts (natural persons) to assist Cedefop
B6: CEI Mailbox:
B7: CEI-applications@cedefop.europa.eu
B9: You must fill-in each cell in green. Leaving a green cell blank may invalidate your application.
B10: All cells except the green ones have been "write protected". You may not insert or delete any cell, row or column or make any change to the formatting of this excel file. Please refer also to the Specifications document and its annex II
B12: PART 1: Application Identification
B14: Full name of the applicant ^1 (Name + Surname)
B15: Status (employee; free lance …..)
B16: Private Company name ^2 (optional)
B17: Official address (as declared to the Tax Authority in your country)
B18: Postal address (if different than above)
... B23: e-mail
B24: English Proficiency level ^3 an excellent ability to communicate clearly and effectively in both spoken and written English, evidenced by at least level C.1 in all dimensions of the Common European Framework of References for Languages | E24: Please Select
B25: Education A level of education which corresponds to completed university studies of at least 3 years, attested by a diploma in at least one of the knowledge fields mentioned in point 4.3 i)
E26: Please fill in the most relevant degrees. Further details and additional degrees can be included in your CV.
E27: Title of the degree | G27: Educational Institution | H27: Field of Study / Knowledge (please select from the list)
B28: Bachelor's Degree | H28: Please Select
B29: Master's Degree (if applicable) | H29: Please Select
B30: Doctoral Degree (PhD) (if applicable) | H30: Please Select
B33: Were you previously accepted on an CEDEFOP CEI List? | E33: Please select
B34: Have you duly filled in and attached: | E34: Please select
B35: Annex II – Questionnaire on eligibility and selection criteria (See point 4.3 of the CEI Specifications)
B38: ^1 Only 'natural' persons may apply for this CEI, this means you must apply in your own name (i.e. not your employer's name).
B39: ^2 You may only apply via a company if it is your own 100% privately owned company.
B40: ^3 Please use the Common European Framework of Reference (CEFR) - for example B1 or C2 etc.
B41: Data protection notice: All Data will be processed in accordance with Regulation (EU) 2018/1725 (‘the EDPR’). The 'Privacy statement notice on the protection of personal data of External Experts' is found via this link:
B42: https://www.cedefop.europa.eu/en/about-cedefop/public-procurement
B43: PART 2: Payment and/or reimbursement of expenses
B45: Please indicate whether you wish to remunerated and/or reimbursed for any travel and subsistence expenses in relation to CEDEFOP activities (e.g. by attending a meeting). It is emphasised that this does NOT constitute a selection criteria. (This may be relevant for Experts who, due to their current employment status, are unable to receive other sources of income, however would like to contribute to the CEDEFOP Work Programme out of professional interest).
B46: Do you accept payment for your services? | H46: Please select
B47: Do you accept reimbursement for your travel and/or subsistence expenses? | H47: Please select
B48: Are you a citizen of an EU/EEA/SAA member state, and can you be remunerated to your own bank account? | H48: Please select
B50: PART 3: Motivation
B51: Please provide your motivation (500 words maximum), which establishes your incentive to be accepted as an expert for CEDEFOP, as well as your capability and experience working with others in a multicultural environment.
B71: Total words used for motivation | I71: =LEN(TRIM(B52))-LEN(SUBSTITUTE(B52," ",""))+1 -> 1
B72: =IF(I71>500,"Attention! There are more than 500 words, please reduce the number of words.","")
B74: PART 4: Declaration on Exclusion Criteria
B77: SOLEMN STATEMENT
...

Sheet PART 5a
B2: ='PARTs 1-2-3-4'!B3 -> Call for Expression of Interest - CEDEFOP/2026/CEI/0001
B4: PART 5a: Fields of Expertise (1st Research Area Selected)
B6: You must complete at least all cells highlighted in green. Additional rows may be used to provide any further relevant information. Leaving a mandatory field blank may invalidate your application.
B8: Full name of the applicant: | D8: ='PARTs 1-2-3-4'!E14 -> 0
B9: Please refer also to the Specifications document and the Questionnaire in Annex II: For "Research Area", for which you have experience and expertise, you shall first select (via dropdown lists) the research area that best matches your education and professional experience'. You are required to provide DOI number or weblink for TWO Publications at least (on this form) which best demonstrates your experience in chosen Research Area. Further details for relevant projects in the same field shall be provided as part of your CV. | K9: EVALUATION RESULTS
B10: =SUM(I2:J43) -> 7 | C10: =IF(B10>=1,"ATTENTION! You have not yet completed inputting the mandatory information in the Research Area area selected. Please fill in ORANGE cells as a minimum.","") -> ATTENTION! You have not yet completed inputting the mandatory information in the Research Area area selected. Please fill in ORANGE cells as a minimum.
B11: All cells except those to be filled by applicant have been 'write protected'. You may not insert or delete any cell, row or column or make any change to the formatting of this file.
B12: Research Area: Select the research area that best matches your education and professional experience | F12: Please Select | I12: =IF(F12<>"Please Select",0,1) -> 1
B13: Experience: at least 5 years of proven professional experience after university studies in the research area selected. | F13: Please Select | I13: =IF(F13<>"Please Select",0,1) -> 1
B14: A remunerated PhD degree acquired in a field relevant to these areas can be counted as professional experience up to 3 years. Paid traineeships and post-doc contracts are counted as working experience. Part time work will be counted according to the ratio of part-time (i.e. 50% part time for 12 months is accounted for 6 months working experience); Please fill in above only relevant experience as requested in the CEI Specifications Please note that the duration of projects shall be counted only once (e.g if an expert has the same experience in more than one relevant project simultaneously, this experience shall be counted only once) Please provide for each entry: Name of the organisation. Position or role held. Brief description of relevant duties and achievements. Explanation of how the experience relates to the selected research area. Project start and end dates. Working time and overlapping periods Please indicate your actual working time as a percentage of a full-time position in the “Working time (%)” column (e.g. 100%, 80%, 50%, 20%). The duration of the professional experience will be calculated automatically taking this percentage into account. Overlapping employment periods are allowed, provided that the combined working time during the overlapping period does not exceed 100% of a full-time position. If the combined working time for overlapping periods exceeds 100%, the following warning will appear: “WARNING: Combined employment rate exceeds 100%.” If this warning appears, please check the working time percentages and the start and end dates entered for the overlapping positions and correct them where necessary. | K14: EVALUATION RESULTS
B15: Organisation(s) (free text) | D15: Role or function in the organisation/project. Please also explain how that experience in the project is relevant to meet the criterion above, using short bullets and references to the tasks performed (free text) | E15: Working time (%) Please enter a value between 1% and 100%. | F15: Start date of project | G15: End date of project | H15: Duration (Years/Months/Days) | K15: Accepted? (YES/ NO) | L15: Comments
B16: 1 | H16: {=IF(OR(E16="",F16="",G16=""),"",_xlfn.LET(_xlpm.StartDates,_xlfn._xlws.FILTER($F$16:$F$25,($F$16:$F$25<=$G16)*($G$16:$G$25>=$F16)),_xlpm.MaxRate,MAX(_xlfn.MAP(_xlpm.StartDates,_xlfn.LAMBDA(_xlpm.d,SUMPRODUCT(($F$16:$F$25<=_xlpm.d)*($G$16:$G$25>=_xlpm.d)*$E$16:$E$25)))),IF(_xlpm.MaxRate>1,"WARNING: The combined employment rate exceeds 100%. Please refer to the instructions above in Cell B14.",DATEDIF(F16,F16+ROUND((G16-F16)*E16,0),"Y")&" years, "&DATEDIF(F16,F16+ROUND((G16-F16)*E16,0),"YM")&" months, "&DATEDIF(F16,F16+ROUND((G16-F16)*E16,0),"MD")&" days")))} | I16: =IF(C16<>"",COUNTBLANK(D16:H16),"") | J16: =IF(C16<>"",0,1) -> 1
B17: 2 | H17: {=IF(OR(E17="",F17="",G17=""),"",_xlfn.LET(_xlpm.StartDates,_xlfn._xlws.FILTER($F$16:$F$25,($F$16:$F$25<=$G17)*($G$16:$G$25>=$F17)),_xlpm.MaxRate,MAX(_xlfn.MAP(_xlpm.StartDates,_xlfn.LAMBDA(_xlpm.d,SUMPRODUCT(($F$16:$F$25<=_xlpm.d)*($G$16:$G$25>=_xlpm.d)*$E$16:$E$25)))),IF(_xlpm.MaxRate>1,"WARNING: The combined employment rate exceeds 100%. Please refer to the instructions above in Cell B14.",DATEDIF(F17,F17+ROUND((G17-F17)*E17,0),"Y")&" years, "&DATEDIF(F17,F17+ROUND((G17-F17)*E17,0),"YM")&" months, "&DATEDIF(F17,F17+ROUND((G17-F17)*E17,0),"MD")&" days")))} | I17: =IF(C17<>"",COUNTBLANK(D17:H17),"")
B18: 3 | H18: {=IF(OR(E18="",F18="",G18=""),"",_xlfn.LET(_xlpm.StartDates,_xlfn._xlws.FILTER($F$16:$F$25,($F$16:$F$25<=$G18)*($G$16:$G$25>=$F18)),_xlpm.MaxRate,MAX(_xlfn.MAP(_xlpm.StartDates,_xlfn.LAMBDA(_xlpm.d,SUMPRODUCT(($F$16:$F$25<=_xlpm.d)*($G$16:$G$25>=_xlpm.d)*$E$16:$E$25)))),IF(_xlpm.MaxRate>1,"WARNING: The combined employment rate exceeds 100%. Please refer to the instructions above in Cell B14.",DATEDIF(F18,F18+ROUND((G18-F18)*E18,0),"Y")&" years, "&DATEDIF(F18,F18+ROUND((G18-F18)*E18,0),"YM")&" months, "&DATEDIF(F18,F18+ROUND((G18-F18)*E18,0),"MD")&" days")))} | I18: =IF(C18<>"",COUNTBLANK(D18:H18),"")
B19: 4 | H19: {=IF(OR(E19="",F19="",G19=""),"",_xlfn.LET(_xlpm.StartDates,_xlfn._xlws.FILTER($F$16:$F$25,($F$16:$F$25<=$G19)*($G$16:$G$25>=$F19)),_xlpm.MaxRate,MAX(_xlfn.MAP(_xlpm.StartDates,_xlfn.LAMBDA(_xlpm.d,SUMPRODUCT(($F$16:$F$25<=_xlpm.d)*($G$16:$G$25>=_xlpm.d)*$E$16:$E$25)))),IF(_xlpm.MaxRate>1,"WARNING: The combined employment rate exceeds 100%. Please refer to the instructions above in Cell B14.",DATEDIF(F19,F19+ROUND((G19-F19)*E19,0),"Y")&" years, "&DATEDIF(F19,F19+ROUND((G19-F19)*E19,0),"YM")&" months, "&DATEDIF(F19,F19+ROUND((G19-F19)*E19,0),"MD")&" days")))} | I19: =IF(C19<>"",COUNTBLANK(D19:H19),"")
B20: 5 | H20: {=IF(OR(E20="",F20="",G20=""),"",_xlfn.LET(_xlpm.StartDates,_xlfn._xlws.FILTER($F$16:$F$25,($F$16:$F$25<=$G20)*($G$16:$G$25>=$F20)),_xlpm.MaxRate,MAX(_xlfn.MAP(_xlpm.StartDates,_xlfn.LAMBDA(_xlpm.d,SUMPRODUCT(($F$16:$F$25<=_xlpm.d)*($G$16:$G$25>=_xlpm.d)*$E$16:$E$25)))),IF(_xlpm.MaxRate>1,"WARNING: The combined employment rate exceeds 100%. Please refer to the instructions above in Cell B14.",DATEDIF(F20,F20+ROUND((G20-F20)*E20,0),"Y")&" years, "&DATEDIF(F20,F20+ROUND((G20-F20)*E20,0),"YM")&" months, "&DATEDIF(F20,F20+ROUND((G20-F20)*E20,0),"MD")&" days")))} | I20: =IF(C20<>"",COUNTBLANK(D20:H20),"")
B21: 6 | H21: {=IF(OR(E21="",F21="",G21=""),"",_xlfn.LET(_xlpm.StartDates,_xlfn._xlws.FILTER($F$16:$F$25,($F$16:$F$25<=$G21)*($G$16:$G$25>=$F21)),_xlpm.MaxRate,MAX(_xlfn.MAP(_xlpm.StartDates,_xlfn.LAMBDA(_xlpm.d,SUMPRODUCT(($F$16:$F$25<=_xlpm.d)*($G$16:$G$25>=_xlpm.d)*$E$16:$E$25)))),IF(_xlpm.MaxRate>1,"WARNING: The combined employment rate exceeds 100%. Please refer to the instructions above in Cell B14.",DATEDIF(F21,F21+ROUND((G21-F21)*E21,0),"Y")&" years, "&DATEDIF(F21,F21+ROUND((G21-F21)*E21,0),"YM")&" months, "&DATEDIF(F21,F21+ROUND((G21-F21)*E21,0),"MD")&" days")))} | I21: =IF(C21<>"",COUNTBLANK(D21:H21),"")
B22: 7 | H22: {=IF(OR(E22="",F22="",G22=""),"",_xlfn.LET(_xlpm.StartDates,_xlfn._xlws.FILTER($F$16:$F$25,($F$16:$F$25<=$G22)*($G$16:$G$25>=$F22)),_xlpm.MaxRate,MAX(_xlfn.MAP(_xlpm.StartDates,_xlfn.LAMBDA(_xlpm.d,SUMPRODUCT(($F$16:$F$25<=_xlpm.d)*($G$16:$G$25>=_xlpm.d)*$E$16:$E$25)))),IF(_xlpm.MaxRate>1,"WARNING: The combined employment rate exceeds 100%. Please refer to the instructions above in Cell B14.",DATEDIF(F22,F22+ROUND((G22-F22)*E22,0),"Y")&" years, "&DATEDIF(F22,F22+ROUND((G22-F22)*E22,0),"YM")&" months, "&DATEDIF(F22,F22+ROUND((G22-F22)*E22,0),"MD")&" days")))} | I22: =IF(C22<>"",COUNTBLANK(D22:H22),"")
B23: 8 | H23: {=IF(OR(E23="",F23="",G23=""),"",_xlfn.LET(_xlpm.StartDates,_xlfn._xlws.FILTER($F$16:$F$25,($F$16:$F$25<=$G23)*($G$16:$G$25>=$F23)),_xlpm.MaxRate,MAX(_xlfn.MAP(_xlpm.StartDates,_xlfn.LAMBDA(_xlpm.d,SUMPRODUCT(($F$16:$F$25<=_xlpm.d)*($G$16:$G$25>=_xlpm.d)*$E$16:$E$25)))),IF(_xlpm.MaxRate>1,"WARNING: The combined employment rate exceeds 100%. Please refer to the instructions above in Cell B14.",DATEDIF(F23,F23+ROUND((G23-F23)*E23,0),"Y")&" years, "&DATEDIF(F23,F23+ROUND((G23-F23)*E23,0),"YM")&" months, "&DATEDIF(F23,F23+ROUND((G23-F23)*E23,0),"MD")&" days")))} | I23: =IF(C23<>"",COUNTBLANK(D23:H23),"")
B24: 9 | H24: {=IF(OR(E24="",F24="",G24=""),"",_xlfn.LET(_xlpm.StartDates,_xlfn._xlws.FILTER($F$16:$F$25,($F$16:$F$25<=$G24)*($G$16:$G$25>=$F24)),_xlpm.MaxRate,MAX(_xlfn.MAP(_xlpm.StartDates,_xlfn.LAMBDA(_xlpm.d,SUMPRODUCT(($F$16:$F$25<=_xlpm.d)*($G$16:$G$25>=_xlpm.d)*$E$16:$E$25)))),IF(_xlpm.MaxRate>1,"WARNING: The combined employment rate exceeds 100%. Please refer to the instructions above in Cell B14.",DATEDIF(F24,F24+ROUND((G24-F24)*E24,0),"Y")&" years, "&DATEDIF(F24,F24+ROUND((G24-F24)*E24,0),"YM")&" months, "&DATEDIF(F24,F24+ROUND((G24-F24)*E24,0),"MD")&" days")))} | I24: =IF(C24<>"",COUNTBLANK(D24:H24),"")
B25: 10 | H25: {=IF(OR(E25="",F25="",G25=""),"",_xlfn.LET(_xlpm.StartDates,_xlfn._xlws.FILTER($F$16:$F$25,($F$16:$F$25<=$G25)*($G$16:$G$25>=$F25)),_xlpm.MaxRate,MAX(_xlfn.MAP(_xlpm.StartDates,_xlfn.LAMBDA(_xlpm.d,SUMPRODUCT(($F$16:$F$25<=_xlpm.d)*($G$16:$G$25>=_xlpm.d)*$E$16:$E$25)))),IF(_xlpm.MaxRate>1,"WARNING: The combined employment rate exceeds 100%. Please refer to the instructions above in Cell B14.",DATEDIF(F25,F25+ROUND((G25-F25)*E25,0),"Y")&" years, "&DATEDIF(F25,F25+ROUND((G25-F25)*E25,0),"YM")&" months, "&DATEDIF(F25,F25+ROUND((G25-F25)*E25,0),"MD")&" days")))} | I25: =IF(C25<>"",COUNTBLANK(D25:H25),"")
G26: TOTAL | H26: {=_xlfn.LET( _xlpm.r,_xlfn._xlws.FILTER(H16:H25,H16:H25<>""), _xlpm.y,SUM(VALUE(_xlfn.TEXTBEFORE(_xlpm.r," years"))), _xlpm.m,SUM(VALUE(_xlfn.TEXTBEFORE(_xlfn.TEXTAFTER(_xlpm.r,"years, ")," months"))), _xlpm.d,SUM(VALUE(_xlfn.TEXTBEFORE(_xlfn.TEXTAFTER(_xlpm.r,"months, ")," days"))), _xlpm.totalMonths,_xlpm.y*12+_xlpm.m+QUOTIENT(_xlpm.d,30), _xlpm.remDays,MOD(_xlpm.d,30), QUOTIENT(_xlpm.totalMonths,12)&" years, "&MOD(_xlpm.totalMonths,12)&" months, "&_xlpm.remDays&" days" )} -> #VALUE!
B27: If additional rows are needed please provide the additional information in your CV.
B29: At least two relevant authored publications in the research area above selected? | F29: Please Select | I29: =IF(F29<>"Please Select",0,1) -> 1
B30: Publications demonstrable experience in each research area that the expert will have declared, as mentioned in point 3, List of research areas, as evidenced by at least 2 relevant authored publications published in scientific journals or on EU institution, Member State public authority (including ministries and governmental agencies) or research institute, or international organisations’ websites. Please note: "An authored publication is a publication in which the applicant is listed as an author or co-author. If the applicant cannot be clearly identified as such in the publication proof of authorship must be presented. This can be a signed declaration from a hierarchical superior that the applicant has written the publication, even if he/she cannot be officially recognised as the author".
B31: Publication(s) Publication’s full reference (title, publisher, year of publication; DOIs, ISSN, ISBN, etc) | D31: Short description of publication (Free text) | E31: Provide a link or attach a copy of publication(s) | H31: Publication type (Please select from the list)
B32: 1 | H32: Please Select | I32: =IF(C32<>"",COUNTBLANK(D32:E32),"") | J32: =IF(C32<>"",0,1) -> 1
B33: 2 | H33: Please Select | I33: =IF(C33<>"",COUNTBLANK(D33:E33),"") | J33: =IF(C33<>"",0,1) -> 1
B34: 3 | H34: Please Select | I34: =IF(C34<>"",COUNTBLANK(D34:F34),"")
B35: 4 | H35: Please Select | I35: =IF(C35<>"",COUNTBLANK(D35:F35),"")
B36: 5 | H36: Please Select | I36: =IF(C36<>"",COUNTBLANK(D36:F36),"")
B37: If additional rows are needed please provide the additional information in your CV.
B39: Choose the fields below for which your expertise is particularly relevant for the selected research area. These fields are non-exhaustive descriptors of the topics withing the research area.
B40: =VLOOKUP(F12,DATA3!B2:C13,2,FALSE) -> #N/A
B41: Enter the relevant fields in the green cell (separate multiple fields with ";") | I41: =IF(D41<>"",0,1) -> 1
B43: FINAL STEPS: Please check that you have provided all the requested information for your application and then attach to an email this Application form (Please download the Excel application form, click “Enable Editing”, complete the form, and save it locally (your name and surname) before sending it by email), your CV and any other documents you deem are relevant to your application. You must add your name to the email subject: "CEDEFOP_2026_CEI_0001_ [your name and surname]".
B44: CEI-applications@cedefop.europa.eu

Sheet PART 5b
B2: ='PARTs 1-2-3-4'!B3 -> Call for Expression of Interest - CEDEFOP/2026/CEI/0001
B4: PART 5b: Fields of Expertise (2nd Research Area Selected)
B6: You must complete at least all cells highlighted in green. Additional rows may be used to provide any further relevant information. Leaving a mandatory field blank may invalidate your application.
B8: Full name of the applicant: | D8: ='PARTs 1-2-3-4'!E14 -> 0
B9: Please refer also to the Specifications document and the Questionnaire in Annex II: For "Research Area", for which you have experience and expertise, you shall first select (via dropdown lists) the research area that best matches your education and professional experience'. You are required to provide DOI number or weblink for TWO Publications at least (on this form) which best demonstrates your experience in chosen Research Area. Further details for relevant projects in the same field shall be provided as part of your CV. | K9: EVALUATION RESULTS
B10: =SUM(I2:J43) -> 7 | C10: =IF(B10>=1,"ATTENTION! You have not yet completed inputting the mandatory information in the Research Area area selected. Please fill in ORANGE cells as a minimum.","") -> ATTENTION! You have not yet completed inputting the mandatory information in the Research Area area selected. Please fill in ORANGE cells as a minimum.
B11: All cells except those to be filled by applicant have been 'write protected'. You may not insert or delete any cell, row or column or make any change to the formatting of this file.
B12: Research Area: Select the research area that best matches your education and professional experience | F12: Please Select | I12: =IF(F12<>"Please Select",0,1) -> 1
B13: Experience: at least 5 years of proven professional experience after university studies in the research area selected. | F13: Please Select | I13: =IF(F13<>"Please Select",0,1) -> 1
B14: A remunerated PhD degree acquired in a field relevant to these areas can be counted as professional experience up to 3 years. Paid traineeships and post-doc contracts are counted as working experience. Part time work will be counted according to the ratio of part-time (i.e. 50% part time for 12 months is accounted for 6 months working experience); Please fill in above only relevant experience as requested in the CEI Specifications Please note that the duration of projects shall be counted only once (e.g if an expert has the same experience in more than one relevant project simultaneously, this experience shall be counted only once) Please provide for each entry: Name of the organisation. Position or role held. Brief description of relevant duties and achievements. Explanation of how the experience relates to the selected research area. Project start and end dates. Working time and overlapping periods Please indicate your actual working time as a percentage of a full-time position in the “Working time (%)” column (e.g. 100%, 80%, 50%, 20%). The duration of the professional experience will be calculated automatically taking this percentage into account. Overlapping employment periods are allowed, provided that the combined working time during the overlapping period does not exceed 100% of a full-time position. If the combined working time for overlapping periods exceeds 100%, the following warning will appear: “WARNING: Combined employment rate exceeds 100%.” If this warning appears, please check the working time percentages and the start and end dates entered for the overlapping positions and correct them where necessary. | K14: EVALUATION RESULTS
B15: Organisation(s) (free text) | D15: Role or function in the organisation/project. Please also explain how that experience in the project is relevant to meet the criterion above, using short bullets and references to the tasks performed (free text) | E15: Working time (%) Please enter a value between 1% and 100%. | F15: Start date of project | G15: End date of project | H15: Duration (Years/Months/Days) | K15: Accepted? (YES/ NO) | L15: Comments
B16: 1 | H16: {=IF(OR(E16="",F16="",G16=""),"",_xlfn.LET(_xlpm.StartDates,_xlfn._xlws.FILTER($F$16:$F$25,($F$16:$F$25<=$G16)*($G$16:$G$25>=$F16)),_xlpm.MaxRate,MAX(_xlfn.MAP(_xlpm.StartDates,_xlfn.LAMBDA(_xlpm.d,SUMPRODUCT(($F$16:$F$25<=_xlpm.d)*($G$16:$G$25>=_xlpm.d)*$E$16:$E$25)))),IF(_xlpm.MaxRate>1,"WARNING: The combined employment rate exceeds 100%. Please refer to the instructions above in Cell B14.",DATEDIF(F16,F16+ROUND((G16-F16)*E16,0),"Y")&" years, "&DATEDIF(F16,F16+ROUND((G16-F16)*E16,0),"YM")&" months, "&DATEDIF(F16,F16+ROUND((G16-F16)*E16,0),"MD")&" days")))} | I16: =IF(C16<>"",COUNTBLANK(D16:H16),"") | J16: =IF(C16<>"",0,1) -> 1
B17: 2 | H17: {=IF(OR(E17="",F17="",G17=""),"",_xlfn.LET(_xlpm.StartDates,_xlfn._xlws.FILTER($F$16:$F$25,($F$16:$F$25<=$G17)*($G$16:$G$25>=$F17)),_xlpm.MaxRate,MAX(_xlfn.MAP(_xlpm.StartDates,_xlfn.LAMBDA(_xlpm.d,SUMPRODUCT(($F$16:$F$25<=_xlpm.d)*($G$16:$G$25>=_xlpm.d)*$E$16:$E$25)))),IF(_xlpm.MaxRate>1,"WARNING: The combined employment rate exceeds 100%. Please refer to the instructions above in Cell B14.",DATEDIF(F17,F17+ROUND((G17-F17)*E17,0),"Y")&" years, "&DATEDIF(F17,F17+ROUND((G17-F17)*E17,0),"YM")&" months, "&DATEDIF(F17,F17+ROUND((G17-F17)*E17,0),"MD")&" days")))} | I17: =IF(C17<>"",COUNTBLANK(D17:H17),"")
B18: 3 | H18: {=IF(OR(E18="",F18="",G18=""),"",_xlfn.LET(_xlpm.StartDates,_xlfn._xlws.FILTER($F$16:$F$25,($F$16:$F$25<=$G18)*($G$16:$G$25>=$F18)),_xlpm.MaxRate,MAX(_xlfn.MAP(_xlpm.StartDates,_xlfn.LAMBDA(_xlpm.d,SUMPRODUCT(($F$16:$F$25<=_xlpm.d)*($G$16:$G$25>=_xlpm.d)*$E$16:$E$25)))),IF(_xlpm.MaxRate>1,"WARNING: The combined employment rate exceeds 100%. Please refer to the instructions above in Cell B14.",DATEDIF(F18,F18+ROUND((G18-F18)*E18,0),"Y")&" years, "&DATEDIF(F18,F18+ROUND((G18-F18)*E18,0),"YM")&" months, "&DATEDIF(F18,F18+ROUND((G18-F18)*E18,0),"MD")&" days")))} | I18: =IF(C18<>"",COUNTBLANK(D18:H18),"")
B19: 4 | H19: {=IF(OR(E19="",F19="",G19=""),"",_xlfn.LET(_xlpm.StartDates,_xlfn._xlws.FILTER($F$16:$F$25,($F$16:$F$25<=$G19)*($G$16:$G$25>=$F19)),_xlpm.MaxRate,MAX(_xlfn.MAP(_xlpm.StartDates,_xlfn.LAMBDA(_xlpm.d,SUMPRODUCT(($F$16:$F$25<=_xlpm.d)*($G$16:$G$25>=_xlpm.d)*$E$16:$E$25)))),IF(_xlpm.MaxRate>1,"WARNING: The combined employment rate exceeds 100%. Please refer to the instructions above in Cell B14.",DATEDIF(F19,F19+ROUND((G19-F19)*E19,0),"Y")&" years, "&DATEDIF(F19,F19+ROUND((G19-F19)*E19,0),"YM")&" months, "&DATEDIF(F19,F19+ROUND((G19-F19)*E19,0),"MD")&" days")))} | I19: =IF(C19<>"",COUNTBLANK(D19:H19),"")
B20: 5 | H20: {=IF(OR(E20="",F20="",G20=""),"",_xlfn.LET(_xlpm.StartDates,_xlfn._xlws.FILTER($F$16:$F$25,($F$16:$F$25<=$G20)*($G$16:$G$25>=$F20)),_xlpm.MaxRate,MAX(_xlfn.MAP(_xlpm.StartDates,_xlfn.LAMBDA(_xlpm.d,SUMPRODUCT(($F$16:$F$25<=_xlpm.d)*($G$16:$G$25>=_xlpm.d)*$E$16:$E$25)))),IF(_xlpm.MaxRate>1,"WARNING: The combined employment rate exceeds 100%. Please refer to the instructions above in Cell B14.",DATEDIF(F20,F20+ROUND((G20-F20)*E20,0),"Y")&" years, "&DATEDIF(F20,F20+ROUND((G20-F20)*E20,0),"YM")&" months, "&DATEDIF(F20,F20+ROUND((G20-F20)*E20,0),"MD")&" days")))} | I20: =IF(C20<>"",COUNTBLANK(D20:H20),"")
B21: 6 | H21: {=IF(OR(E21="",F21="",G21=""),"",_xlfn.LET(_xlpm.StartDates,_xlfn._xlws.FILTER($F$16:$F$25,($F$16:$F$25<=$G21)*($G$16:$G$25>=$F21)),_xlpm.MaxRate,MAX(_xlfn.MAP(_xlpm.StartDates,_xlfn.LAMBDA(_xlpm.d,SUMPRODUCT(($F$16:$F$25<=_xlpm.d)*($G$16:$G$25>=_xlpm.d)*$E$16:$E$25)))),IF(_xlpm.MaxRate>1,"WARNING: The combined employment rate exceeds 100%. Please refer to the instructions above in Cell B14.",DATEDIF(F21,F21+ROUND((G21-F21)*E21,0),"Y")&" years, "&DATEDIF(F21,F21+ROUND((G21-F21)*E21,0),"YM")&" months, "&DATEDIF(F21,F21+ROUND((G21-F21)*E21,0),"MD")&" days")))} | I21: =IF(C21<>"",COUNTBLANK(D21:H21),"")
B22: 7 | H22: {=IF(OR(E22="",F22="",G22=""),"",_xlfn.LET(_xlpm.StartDates,_xlfn._xlws.FILTER($F$16:$F$25,($F$16:$F$25<=$G22)*($G$16:$G$25>=$F22)),_xlpm.MaxRate,MAX(_xlfn.MAP(_xlpm.StartDates,_xlfn.LAMBDA(_xlpm.d,SUMPRODUCT(($F$16:$F$25<=_xlpm.d)*($G$16:$G$25>=_xlpm.d)*$E$16:$E$25)))),IF(_xlpm.MaxRate>1,"WARNING: The combined employment rate exceeds 100%. Please refer to the instructions above in Cell B14.",DATEDIF(F22,F22+ROUND((G22-F22)*E22,0),"Y")&" years, "&DATEDIF(F22,F22+ROUND((G22-F22)*E22,0),"YM")&" months, "&DATEDIF(F22,F22+ROUND((G22-F22)*E22,0),"MD")&" days")))} | I22: =IF(C22<>"",COUNTBLANK(D22:H22),"")
B23: 8 | H23: {=IF(OR(E23="",F23="",G23=""),"",_xlfn.LET(_xlpm.StartDates,_xlfn._xlws.FILTER($F$16:$F$25,($F$16:$F$25<=$G23)*($G$16:$G$25>=$F23)),_xlpm.MaxRate,MAX(_xlfn.MAP(_xlpm.StartDates,_xlfn.LAMBDA(_xlpm.d,SUMPRODUCT(($F$16:$F$25<=_xlpm.d)*($G$16:$G$25>=_xlpm.d)*$E$16:$E$25)))),IF(_xlpm.MaxRate>1,"WARNING: The combined employment rate exceeds 100%. Please refer to the instructions above in Cell B14.",DATEDIF(F23,F23+ROUND((G23-F23)*E23,0),"Y")&" years, "&DATEDIF(F23,F23+ROUND((G23-F23)*E23,0),"YM")&" months, "&DATEDIF(F23,F23+ROUND((G23-F23)*E23,0),"MD")&" days")))} | I23: =IF(C23<>"",COUNTBLANK(D23:H23),"")
B24: 9 | H24: {=IF(OR(E24="",F24="",G24=""),"",_xlfn.LET(_xlpm.StartDates,_xlfn._xlws.FILTER($F$16:$F$25,($F$16:$F$25<=$G24)*($G$16:$G$25>=$F24)),_xlpm.MaxRate,MAX(_xlfn.MAP(_xlpm.StartDates,_xlfn.LAMBDA(_xlpm.d,SUMPRODUCT(($F$16:$F$25<=_xlpm.d)*($G$16:$G$25>=_xlpm.d)*$E$16:$E$25)))),IF(_xlpm.MaxRate>1,"WARNING: The combined employment rate exceeds 100%. Please refer to the instructions above in Cell B14.",DATEDIF(F24,F24+ROUND((G24-F24)*E24,0),"Y")&" years, "&DATEDIF(F24,F24+ROUND((G24-F24)*E24,0),"YM")&" months, "&DATEDIF(F24,F24+ROUND((G24-F24)*E24,0),"MD")&" days")))} | I24: =IF(C24<>"",COUNTBLANK(D24:H24),"")
B25: 10 | H25: {=IF(OR(E25="",F25="",G25=""),"",_xlfn.LET(_xlpm.StartDates,_xlfn._xlws.FILTER($F$16:$F$25,($F$16:$F$25<=$G25)*($G$16:$G$25>=$F25)),_xlpm.MaxRate,MAX(_xlfn.MAP(_xlpm.StartDates,_xlfn.LAMBDA(_xlpm.d,SUMPRODUCT(($F$16:$F$25<=_xlpm.d)*($G$16:$G$25>=_xlpm.d)*$E$16:$E$25)))),IF(_xlpm.MaxRate>1,"WARNING: The combined employment rate exceeds 100%. Please refer to the instructions above in Cell B14.",DATEDIF(F25,F25+ROUND((G25-F25)*E25,0),"Y")&" years, "&DATEDIF(F25,F25+ROUND((G25-F25)*E25,0),"YM")&" months, "&DATEDIF(F25,F25+ROUND((G25-F25)*E25,0),"MD")&" days")))} | I25: =IF(C25<>"",COUNTBLANK(D25:H25),"")
G26: TOTAL | H26: {=_xlfn.LET( _xlpm.r,_xlfn._xlws.FILTER(H16:H25,H16:H25<>""), _xlpm.y,SUM(VALUE(_xlfn.TEXTBEFORE(_xlpm.r," years"))), _xlpm.m,SUM(VALUE(_xlfn.TEXTBEFORE(_xlfn.TEXTAFTER(_xlpm.r,"years, ")," months"))), _xlpm.d,SUM(VALUE(_xlfn.TEXTBEFORE(_xlfn.TEXTAFTER(_xlpm.r,"months, ")," days"))), _xlpm.totalMonths,_xlpm.y*12+_xlpm.m+QUOTIENT(_xlpm.d,30), _xlpm.remDays,MOD(_xlpm.d,30), QUOTIENT(_xlpm.totalMonths,12)&" years, "&MOD(_xlpm.totalMonths,12)&" months, "&_xlpm.remDays&" days" )} -> #VALUE!
B27: If additional rows are needed please provide the additional information in your CV.
B29: At least two relevant authored publications in the research area above selected? | F29: Please Select | I29: =IF(F29<>"Please Select",0,1) -> 1
B30: Publications demonstrable experience in each research area that the expert will have declared, as mentioned in point 3, List of research areas, as evidenced by at least 2 relevant authored publications published in scientific journals or on EU institution, Member State public authority (including ministries and governmental agencies) or research institute, or international organisations’ websites. Please note: "An authored publication is a publication in which the applicant is listed as an author or co-author. If the applicant cannot be clearly identified as such in the publication proof of authorship must be presented. This can be a signed declaration from a hierarchical superior that the applicant has written the publication, even if he/she cannot be officially recognised as the author".
B31: Publication(s) Publication’s full reference (title, publisher, year of publication; DOIs, ISSN, ISBN, etc) | D31: Short description of publication (Free text) | E31: Provide a link or attach a copy of publication(s) | H31: Publication type (Please select from the list)
B32: 1 | H32: Please Select | I32: =IF(C32<>"",COUNTBLANK(D32:E32),"") | J32: =IF(C32<>"",0,1) -> 1
B33: 2 | H33: Please Select | I33: =IF(C33<>"",COUNTBLANK(D33:E33),"") | J33: =IF(C33<>"",0,1) -> 1
B34: 3 | H34: Please Select | I34: =IF(C34<>"",COUNTBLANK(D34:F34),"")
B35: 4 | H35: Please Select | I35: =IF(C35<>"",COUNTBLANK(D35:F35),"")
B36: 5 | H36: Please Select | I36: =IF(C36<>"",COUNTBLANK(D36:F36),"")
B37: If additional rows are needed please provide the additional information in your CV.
B39: Choose the fields below for which your expertise is particularly relevant for the selected research area. These fields are non-exhaustive descriptors of the topics withing the research area.
B40: =VLOOKUP(F12,DATA3!B2:C13,2,FALSE) -> #N/A
B41: Enter the relevant fields in the green cell (separate multiple fields with ";") | I41: =IF(D41<>"",0,1) -> 1
B43: FINAL STEPS: Please check that you have provided all the requested information for your application and then attach to an email this Application form (Please download the Excel application form, click “Enable Editing”, complete the form, and save it locally (your name and surname) before sending it by email), your CV and any other documents you deem are relevant to your application. You must add your name to the email subject: "CEDEFOP_2026_CEI_0001_ [your name and surname]".
B44: CEI-applications@cedefop.europa.eu

Sheet PART 5c
B2: ='PARTs 1-2-3-4'!B3 -> Call for Expression of Interest - CEDEFOP/2026/CEI/0001
B4: PART 5c: Fields of Expertise (3rd Research Area Selected)
B6: You must complete at least all cells highlighted in green. Additional rows may be used to provide any further relevant information. Leaving a mandatory field blank may invalidate your application.
B8: Full name of the applicant: | D8: ='PARTs 1-2-3-4'!E14 -> 0
B9: Please refer also to the Specifications document and the Questionnaire in Annex II: For "Research Area", for which you have experience and expertise, you shall first select (via dropdown lists) the research area that best matches your education and professional experience'. You are required to provide DOI number or weblink for TWO Publications at least (on this form) which best demonstrates your experience in chosen Research Area. Further details for relevant projects in the same field shall be provided as part of your CV. | K9: EVALUATION RESULTS
B10: =SUM(I2:J43) -> 7 | C10: =IF(B10>=1,"ATTENTION! You have not yet completed inputting the mandatory information in the Research Area area selected. Please fill in ORANGE cells as a minimum.","") -> ATTENTION! You have not yet completed inputting the mandatory information in the Research Area area selected. Please fill in ORANGE cells as a minimum.
B11: All cells except those to be filled by applicant have been 'write protected'. You may not insert or delete any cell, row or column or make any change to the formatting of this file.
B12: Research Area: Select the research area that best matches your education and professional experience | F12: Please Select | I12: =IF(F12<>"Please Select",0,1) -> 1
B13: Experience: at least 5 years of proven professional experience after university studies in the research area selected. | F13: Please Select | I13: =IF(F13<>"Please Select",0,1) -> 1
B14: A remunerated PhD degree acquired in a field relevant to these areas can be counted as professional experience up to 3 years. Paid traineeships and post-doc contracts are counted as working experience. Part time work will be counted according to the ratio of part-time (i.e. 50% part time for 12 months is accounted for 6 months working experience); Please fill in above only relevant experience as requested in the CEI Specifications Please note that the duration of projects shall be counted only once (e.g if an expert has the same experience in more than one relevant project simultaneously, this experience shall be counted only once) Please provide for each entry: Name of the organisation. Position or role held. Brief description of relevant duties and achievements. Explanation of how the experience relates to the selected research area. Project start and end dates. Working time and overlapping periods Please indicate your actual working time as a percentage of a full-time position in the “Working time (%)” column (e.g. 100%, 80%, 50%, 20%). The duration of the professional experience will be calculated automatically taking this percentage into account. Overlapping employment periods are allowed, provided that the combined working time during the overlapping period does not exceed 100% of a full-time position. If the combined working time for overlapping periods exceeds 100%, the following warning will appear: “WARNING: Combined employment rate exceeds 100%.” If this warning appears, please check the working time percentages and the start and end dates entered for the overlapping positions and correct them where necessary. | K14: EVALUATION RESULTS
B15: Organisation(s) (free text) | D15: Role or function in the organisation/project. Please also explain how that experience in the project is relevant to meet the criterion above, using short bullets and references to the tasks performed (free text) | E15: Working time (%) Please enter a value between 1% and 100%. | F15: Start date of project | G15: End date of project | H15: Duration (Years/Months/Days) | K15: Accepted? (YES/ NO) | L15: Comments
B16: 1 | H16: {=IF(OR(E16="",F16="",G16=""),"",_xlfn.LET(_xlpm.StartDates,_xlfn._xlws.FILTER($F$16:$F$25,($F$16:$F$25<=$G16)*($G$16:$G$25>=$F16)),_xlpm.MaxRate,MAX(_xlfn.MAP(_xlpm.StartDates,_xlfn.LAMBDA(_xlpm.d,SUMPRODUCT(($F$16:$F$25<=_xlpm.d)*($G$16:$G$25>=_xlpm.d)*$E$16:$E$25)))),IF(_xlpm.MaxRate>1,"WARNING: The combined employment rate exceeds 100%. Please refer to the instructions above in Cell B14.",DATEDIF(F16,F16+ROUND((G16-F16)*E16,0),"Y")&" years, "&DATEDIF(F16,F16+ROUND((G16-F16)*E16,0),"YM")&" months, "&DATEDIF(F16,F16+ROUND((G16-F16)*E16,0),"MD")&" days")))} | I16: =IF(C16<>"",COUNTBLANK(D16:H16),"") | J16: =IF(C16<>"",0,1) -> 1
B17: 2 | H17: {=IF(OR(E17="",F17="",G17=""),"",_xlfn.LET(_xlpm.StartDates,_xlfn._xlws.FILTER($F$16:$F$25,($F$16:$F$25<=$G17)*($G$16:$G$25>=$F17)),_xlpm.MaxRate,MAX(_xlfn.MAP(_xlpm.StartDates,_xlfn.LAMBDA(_xlpm.d,SUMPRODUCT(($F$16:$F$25<=_xlpm.d)*($G$16:$G$25>=_xlpm.d)*$E$16:$E$25)))),IF(_xlpm.MaxRate>1,"WARNING: The combined employment rate exceeds 100%. Please refer to the instructions above in Cell B14.",DATEDIF(F17,F17+ROUND((G17-F17)*E17,0),"Y")&" years, "&DATEDIF(F17,F17+ROUND((G17-F17)*E17,0),"YM")&" months, "&DATEDIF(F17,F17+ROUND((G17-F17)*E17,0),"MD")&" days")))} | I17: =IF(C17<>"",COUNTBLANK(D17:H17),"")
B18: 3 | H18: {=IF(OR(E18="",F18="",G18=""),"",_xlfn.LET(_xlpm.StartDates,_xlfn._xlws.FILTER($F$16:$F$25,($F$16:$F$25<=$G18)*($G$16:$G$25>=$F18)),_xlpm.MaxRate,MAX(_xlfn.MAP(_xlpm.StartDates,_xlfn.LAMBDA(_xlpm.d,SUMPRODUCT(($F$16:$F$25<=_xlpm.d)*($G$16:$G$25>=_xlpm.d)*$E$16:$E$25)))),IF(_xlpm.MaxRate>1,"WARNING: The combined employment rate exceeds 100%. Please refer to the instructions above in Cell B14.",DATEDIF(F18,F18+ROUND((G18-F18)*E18,0),"Y")&" years, "&DATEDIF(F18,F18+ROUND((G18-F18)*E18,0),"YM")&" months, "&DATEDIF(F18,F18+ROUND((G18-F18)*E18,0),"MD")&" days")))} | I18: =IF(C18<>"",COUNTBLANK(D18:H18),"")
B19: 4 | H19: {=IF(OR(E19="",F19="",G19=""),"",_xlfn.LET(_xlpm.StartDates,_xlfn._xlws.FILTER($F$16:$F$25,($F$16:$F$25<=$G19)*($G$16:$G$25>=$F19)),_xlpm.MaxRate,MAX(_xlfn.MAP(_xlpm.StartDates,_xlfn.LAMBDA(_xlpm.d,SUMPRODUCT(($F$16:$F$25<=_xlpm.d)*($G$16:$G$25>=_xlpm.d)*$E$16:$E$25)))),IF(_xlpm.MaxRate>1,"WARNING: The combined employment rate exceeds 100%. Please refer to the instructions above in Cell B14.",DATEDIF(F19,F19+ROUND((G19-F19)*E19,0),"Y")&" years, "&DATEDIF(F19,F19+ROUND((G19-F19)*E19,0),"YM")&" months, "&DATEDIF(F19,F19+ROUND((G19-F19)*E19,0),"MD")&" days")))} | I19: =IF(C19<>"",COUNTBLANK(D19:H19),"")
B20: 5 | H20: {=IF(OR(E20="",F20="",G20=""),"",_xlfn.LET(_xlpm.StartDates,_xlfn._xlws.FILTER($F$16:$F$25,($F$16:$F$25<=$G20)*($G$16:$G$25>=$F20)),_xlpm.MaxRate,MAX(_xlfn.MAP(_xlpm.StartDates,_xlfn.LAMBDA(_xlpm.d,SUMPRODUCT(($F$16:$F$25<=_xlpm.d)*($G$16:$G$25>=_xlpm.d)*$E$16:$E$25)))),IF(_xlpm.MaxRate>1,"WARNING: The combined employment rate exceeds 100%. Please refer to the instructions above in Cell B14.",DATEDIF(F20,F20+ROUND((G20-F20)*E20,0),"Y")&" years, "&DATEDIF(F20,F20+ROUND((G20-F20)*E20,0),"YM")&" months, "&DATEDIF(F20,F20+ROUND((G20-F20)*E20,0),"MD")&" days")))} | I20: =IF(C20<>"",COUNTBLANK(D20:H20),"")
B21: 6 | H21: {=IF(OR(E21="",F21="",G21=""),"",_xlfn.LET(_xlpm.StartDates,_xlfn._xlws.FILTER($F$16:$F$25,($F$16:$F$25<=$G21)*($G$16:$G$25>=$F21)),_xlpm.MaxRate,MAX(_xlfn.MAP(_xlpm.StartDates,_xlfn.LAMBDA(_xlpm.d,SUMPRODUCT(($F$16:$F$25<=_xlpm.d)*($G$16:$G$25>=_xlpm.d)*$E$16:$E$25)))),IF(_xlpm.MaxRate>1,"WARNING: The combined employment rate exceeds 100%. Please refer to the instructions above in Cell B14.",DATEDIF(F21,F21+ROUND((G21-F21)*E21,0),"Y")&" years, "&DATEDIF(F21,F21+ROUND((G21-F21)*E21,0),"YM")&" months, "&DATEDIF(F21,F21+ROUND((G21-F21)*E21,0),"MD")&" days")))} | I21: =IF(C21<>"",COUNTBLANK(D21:H21),"")
B22: 7 | H22: {=IF(OR(E22="",F22="",G22=""),"",_xlfn.LET(_xlpm.StartDates,_xlfn._xlws.FILTER($F$16:$F$25,($F$16:$F$25<=$G22)*($G$16:$G$25>=$F22)),_xlpm.MaxRate,MAX(_xlfn.MAP(_xlpm.StartDates,_xlfn.LAMBDA(_xlpm.d,SUMPRODUCT(($F$16:$F$25<=_xlpm.d)*($G$16:$G$25>=_xlpm.d)*$E$16:$E$25)))),IF(_xlpm.MaxRate>1,"WARNING: The combined employment rate exceeds 100%. Please refer to the instructions above in Cell B14.",DATEDIF(F22,F22+ROUND((G22-F22)*E22,0),"Y")&" years, "&DATEDIF(F22,F22+ROUND((G22-F22)*E22,0),"YM")&" months, "&DATEDIF(F22,F22+ROUND((G22-F22)*E22,0),"MD")&" days")))} | I22: =IF(C22<>"",COUNTBLANK(D22:H22),"")
B23: 8 | H23: {=IF(OR(E23="",F23="",G23=""),"",_xlfn.LET(_xlpm.StartDates,_xlfn._xlws.FILTER($F$16:$F$25,($F$16:$F$25<=$G23)*($G$16:$G$25>=$F23)),_xlpm.MaxRate,MAX(_xlfn.MAP(_xlpm.StartDates,_xlfn.LAMBDA(_xlpm.d,SUMPRODUCT(($F$16:$F$25<=_xlpm.d)*($G$16:$G$25>=_xlpm.d)*$E$16:$E$25)))),IF(_xlpm.MaxRate>1,"WARNING: The combined employment rate exceeds 100%. Please refer to the instructions above in Cell B14.",DATEDIF(F23,F23+ROUND((G23-F23)*E23,0),"Y")&" years, "&DATEDIF(F23,F23+ROUND((G23-F23)*E23,0),"YM")&" months, "&DATEDIF(F23,F23+ROUND((G23-F23)*E23,0),"MD")&" days")))} | I23: =IF(C23<>"",COUNTBLANK(D23:H23),"")
B24: 9 | H24: {=IF(OR(E24="",F24="",G24=""),"",_xlfn.LET(_xlpm.StartDates,_xlfn._xlws.FILTER($F$16:$F$25,($F$16:$F$25<=$G24)*($G$16:$G$25>=$F24)),_xlpm.MaxRate,MAX(_xlfn.MAP(_xlpm.StartDates,_xlfn.LAMBDA(_xlpm.d,SUMPRODUCT(($F$16:$F$25<=_xlpm.d)*($G$16:$G$25>=_xlpm.d)*$E$16:$E$25)))),IF(_xlpm.MaxRate>1,"WARNING: The combined employment rate exceeds 100%. Please refer to the instructions above in Cell B14.",DATEDIF(F24,F24+ROUND((G24-F24)*E24,0),"Y")&" years, "&DATEDIF(F24,F24+ROUND((G24-F24)*E24,0),"YM")&" months, "&DATEDIF(F24,F24+ROUND((G24-F24)*E24,0),"MD")&" days")))} | I24: =IF(C24<>"",COUNTBLANK(D24:H24),"")
B25: 10 | H25: {=IF(OR(E25="",F25="",G25=""),"",_xlfn.LET(_xlpm.StartDates,_xlfn._xlws.FILTER($F$16:$F$25,($F$16:$F$25<=$G25)*($G$16:$G$25>=$F25)),_xlpm.MaxRate,MAX(_xlfn.MAP(_xlpm.StartDates,_xlfn.LAMBDA(_xlpm.d,SUMPRODUCT(($F$16:$F$25<=_xlpm.d)*($G$16:$G$25>=_xlpm.d)*$E$16:$E$25)))),IF(_xlpm.MaxRate>1,"WARNING: The combined employment rate exceeds 100%. Please refer to the instructions above in Cell B14.",DATEDIF(F25,F25+ROUND((G25-F25)*E25,0),"Y")&" years, "&DATEDIF(F25,F25+ROUND((G25-F25)*E25,0),"YM")&" months, "&DATEDIF(F25,F25+ROUND((G25-F25)*E25,0),"MD")&" days")))} | I25: =IF(C25<>"",COUNTBLANK(D25:H25),"")
G26: TOTAL | H26: {=_xlfn.LET( _xlpm.r,_xlfn._xlws.FILTER(H16:H25,H16:H25<>""), _xlpm.y,SUM(VALUE(_xlfn.TEXTBEFORE(_xlpm.r," years"))), _xlpm.m,SUM(VALUE(_xlfn.TEXTBEFORE(_xlfn.TEXTAFTER(_xlpm.r,"years, ")," months"))), _xlpm.d,SUM(VALUE(_xlfn.TEXTBEFORE(_xlfn.TEXTAFTER(_xlpm.r,"months, ")," days"))), _xlpm.totalMonths,_xlpm.y*12+_xlpm.m+QUOTIENT(_xlpm.d,30), _xlpm.remDays,MOD(_xlpm.d,30), QUOTIENT(_xlpm.totalMonths,12)&" years, "&MOD(_xlpm.totalMonths,12)&" months, "&_xlpm.remDays&" days" )} -> #VALUE!
B27: If additional rows are needed please provide the additional information in your CV.
B29: At least two relevant authored publications in the research area above selected? | F29: Please Select | I29: =IF(F29<>"Please Select",0,1) -> 1
B30: Publications demonstrable experience in each research area that the expert will have declared, as mentioned in point 3, List of research areas, as evidenced by at least 2 relevant authored publications published in scientific journals or on EU institution, Member State public authority (including ministries and governmental agencies) or research institute, or international organisations’ websites. Please note: "An authored publication is a publication in which the applicant is listed as an author or co-author. If the applicant cannot be clearly identified as such in the publication proof of authorship must be presented. This can be a signed declaration from a hierarchical superior that the applicant has written the publication, even if he/she cannot be officially recognised as the author".
B31: Publication(s) Publication’s full reference (title, publisher, year of publication; DOIs, ISSN, ISBN, etc) | D31: Short description of publication (Free text) | E31: Provide a link or attach a copy of publication(s) | H31: Publication type (Please select from the list)
B32: 1 | H32: Please Select | I32: =IF(C32<>"",COUNTBLANK(D32:E32),"") | J32: =IF(C32<>"",0,1) -> 1
B33: 2 | H33: Please Select | I33: =IF(C33<>"",COUNTBLANK(D33:E33),"") | J33: =IF(C33<>"",0,1) -> 1
B34: 3 | H34: Please Select | I34: =IF(C34<>"",COUNTBLANK(D34:F34),"")
B35: 4 | H35: Please Select | I35: =IF(C35<>"",COUNTBLANK(D35:F35),"")
B36: 5 | H36: Please Select | I36: =IF(C36<>"",COUNTBLANK(D36:F36),"")
B37: If additional rows are needed please provide the additional information in your CV.
B39: Choose the fields below for which your expertise is particularly relevant for the selected research area. These fields are non-exhaustive descriptors of the topics withing the research area.
B40: =VLOOKUP(F12,DATA3!B2:C13,2,FALSE) -> #N/A
B41: Enter the relevant fields in the green cell (separate multiple fields with ";") | I41: =IF(D41<>"",0,1) -> 1
B43: FINAL STEPS: Please check that you have provided all the requested information for your application and then attach to an email this Application form (Please download the Excel application form, click “Enable Editing”, complete the form, and save it locally (your name and surname) before sending it by email), your CV and any other documents you deem are relevant to your application. You must add your name to the email subject: "CEDEFOP_2026_CEI_0001_ [your name and surname]".

Sheet Help - CHECKLIST
B2: CHECKLIST
B3: Please ensure that the application form (Annex I) has been properly filled in and that all supporting documents have been duly submitted. (Please download the Excel application form, click “Enable Editing”, complete the form, and save it locally (your name and surname) before sending it by email)
A5: 1 | B5: Annex I Parts 1-2-3-4 | C5: Are all mandatory green cells filled in?
C6: Have you provided all necessary information related to the eligibility requirements?
D7: Level of both spoken and written English
D8: Level of education
D9: Knowledge field of the diploma
A10: 2 | B10: Annex I Part 5a-5b-5c | C10: Have you provided all necessary information related to the selection requirements, as follows?
D11: Years of proven professional experience after university studies in each research area declared
D12: Explanation of how the experience relates to the selected research area.
D13: Relevant authored publications in each research area declared
C14: Have you duly filled in all the information required (green cells in Part 5a-5b-5c)
C15: You may apply for up to three research areas (tabs Part 5a-5b-5c)
A17: 3 | B17: To better evaluate your application, and increase your chances of being positively evaluated, it is strongly suggested to provide: | D17: A list of projects or publications related to your declared field(s) of interest. Summary details for at least he 2 most relevant should be given in PART 5
D18: Professional certifications (included in your CV or as a separate file)
A20: 4 | B20: FINAL STEPS: Please check that you have provided all the requested information for your application and then attach to an email this Application form (Please download the Excel application form, click “Enable Editing”, complete the form, and save it locally (your name and surname) before sending it by email), your CV and any other documents you deem are relevant to your application. You must add your name to the email subject: "CEDEFOP_2026_CEI_0001_ [your name and surname]". CEI-applications@cedefop.europa.eu

Sheet EVALUATION
B1: Full Name | C1: Research Area | D1: Education Evaluation | E1: Language Evaluation | F1: Experience Evaluation | G1: Publications Evaluation | H1: Overall Evaluation | I1: Evaluation Comments for Applicants not Accepted | J1: Evaluation Comments | K1: Education | L1: English Proficiency level | M1: Professional Experience | N1: EXPERIENCE TOTAL DURATION | O1: Relevant Publications | P1: Relevant fields of Expertise
A2: 1 | B2: ='PARTs 1-2-3-4'!E14 -> 0 | C2: =IF(OR('PART 5a'!$F$12="PLEASE SELECT",'PART 5a'!$F$12=""),"",'PART 5a'!$F$12) | D2: Please Select | E2: Please Select | F2: Please Select | G2: Please Select | H2: Please Select | K2: {=_xlfn.TEXTJOIN(" | ",TRUE,IF(('PARTs 1-2-3-4'!E28:I30<>"")*('PARTs 1-2-3-4'!E28:I30<>"PLEASE SELECT"),'PARTs 1-2-3-4'!E28:I30,""))} | L2: ='PARTs 1-2-3-4'!E24 -> Please Select | M2: {=_xlfn.LET(_xlpm.x,_xlfn.BYROW('PART 5a'!$C$16:$D$25,_xlfn.LAMBDA(_xlpm.r,_xlfn.TEXTJOIN("; ",TRUE,_xlpm.r))),_xlpm.y,_xlfn._xlws.FILTER(_xlpm.x,_xlpm.x<>""),_xlfn.TEXTJOIN(CHAR(10),TRUE,_xlfn.SEQUENCE(ROWS(_xlpm.y))&") "&_xlpm.y))} -> #VALUE! | N2: ='PART 5a'!H26 -> #VALUE! | O2: {=_xlfn.LET(_xlpm.x,_xlfn.BYROW('PART 5a'!$C$32:$F$36,_xlfn.LAMBDA(_xlpm.r,_xlfn.TEXTJOIN("; ",TRUE,_xlpm.r))),_xlpm.y,_xlfn._xlws.FILTER(_xlpm.x,_xlpm.x<>""),_xlfn.TEXTJOIN(CHAR(10),TRUE,_xlfn.SEQUENCE(ROWS(_xlpm.y))&") "&_xlpm.y))} -> #VALUE! | P2: ='PART 5a'!$D$41 -> 0
A3: 2 | B3: ='PARTs 1-2-3-4'!$E$14 -> 0 | C3: =IF(OR('PART 5b'!$F$12="PLEASE SELECT",'PART 5b'!$F$12=""),"",'PART 5b'!$F$12) | D3: Please Select | E3: Please Select | F3: Please Select | G3: Please Select | H3: Please Select | K3: =K2 | L3: =L2 -> Please Select | M3: {=_xlfn.LET(_xlpm.x,_xlfn.BYROW('PART 5b'!$C$16:$D$25,_xlfn.LAMBDA(_xlpm.r,_xlfn.TEXTJOIN("; ",TRUE,_xlpm.r))),_xlpm.y,_xlfn._xlws.FILTER(_xlpm.x,_xlpm.x<>""),_xlfn.TEXTJOIN(CHAR(10),TRUE,_xlfn.SEQUENCE(ROWS(_xlpm.y))&") "&_xlpm.y))} -> #VALUE! | N3: ='PART 5b'!H26 -> #VALUE! | O3: {=_xlfn.LET(_xlpm.x,_xlfn.BYROW('PART 5b'!$C$32:$F$36,_xlfn.LAMBDA(_xlpm.r,_xlfn.TEXTJOIN("; ",TRUE,_xlpm.r))),_xlpm.y,_xlfn._xlws.FILTER(_xlpm.x,_xlpm.x<>""),_xlfn.TEXTJOIN(CHAR(10),TRUE,_xlfn.SEQUENCE(ROWS(_xlpm.y))&") "&_xlpm.y))} -> #VALUE! | P3: ='PART 5b'!$D$41 -> 0
A4: 3 | B4: ='PARTs 1-2-3-4'!$E$14 -> 0 | C4: =IF(OR('PART 5c'!$F$12="PLEASE SELECT",'PART 5c'!$F$12=""),"",'PART 5c'!$F$12) | D4: Please Select | E4: Please Select | F4: Please Select | G4: Please Select | H4: Please Select | K4: =K3 | L4: =L3 -> Please Select | M4: {=_xlfn.LET(_xlpm.x,_xlfn.BYROW('PART 5c'!$C$16:$D$25,_xlfn.LAMBDA(_xlpm.r,_xlfn.TEXTJOIN("; ",TRUE,_xlpm.r))),_xlpm.y,_xlfn._xlws.FILTER(_xlpm.x,_xlpm.x<>""),_xlfn.TEXTJOIN(CHAR(10),TRUE,_xlfn.SEQUENCE(ROWS(_xlpm.y))&") "&_xlpm.y))} -> #VALUE! | N4: ='PART 5c'!H26 -> #VALUE! | O4: {=_xlfn.LET(_xlpm.x,_xlfn.BYROW('PART 5c'!$C$32:$F$36,_xlfn.LAMBDA(_xlpm.r,_xlfn.TEXTJOIN("; ",TRUE,_xlpm.r))),_xlpm.y,_xlfn._xlws.FILTER(_xlpm.x,_xlpm.x<>""),_xlfn.TEXTJOIN(CHAR(10),TRUE,_xlfn.SEQUENCE(ROWS(_xlpm.y))&") "&_xlpm.y))} -> #VALUE! | P4: ='PART 5c'!$D$41 -> 0

Sheet PREVIOUS VERSION PART 5
B2: ='PARTs 1-2-3-4'!B3 -> Call for Expression of Interest - CEDEFOP/2026/CEI/0001
B4: PART 5: Fields of Expertise
B6: Full name of the applicant: | D6: ='PARTs 1-2-3-4'!E14 -> 0 | H6: Nationality: | J6: {='PARTs 1-2-3-4'!E19:I19} -> 0 | K6: 0 | L6: 0 | M6: 0 | N6: 0
B7: Please refer also to the Specifications document and the Questionnaire in Annex II: For "List of Research Area", for which you have experience and expertise, you shall first select (via dropdown lists) the "Level of education, then "Knowledge field of the diploma" and number of 'Years of proven professional experience after university studies'. PLEASE NOTE: You may select all Reasearch areas. You are required to provide DOI number or weblink for TWO Publications (on this form) which best demonstrates your experience in each chosen Research Area. Further details for relevant projects in the same field shall be provided as part of your CV.
B8: =SUM(K14:K137) -> 9 | C8: =IF(B8>=1,"ATTENTION! You have not yet completed inputting the mandatory information in the Research Area area selected. Please fill in ORANGE cells as a minimum.","") -> ATTENTION! You have not yet completed inputting the mandatory information in the Research Area area selected. Please fill in ORANGE cells as a minimum.
B9: All cells except those to be filled by applicant have been 'write protected'. You may not insert or delete any cell, row or column or make any change to the formatting of this file.
B10: List of Research Area | D10: Which ‘Research Area’ does your education & experience best relate to? | F10: CAREER EXPERIENCE (Full Time Equivalent - Paid traineeships and post-doc contracts are counted as working experience) | G10: Provide below DOI number or weblink for two relevant authored publications in peer-reviewed journals (the publications should be in EN language), which best demonstrates your experience in the related 'Research Area' area. While it is not mandatory, providing details in CV will increase your chances of being positively evaluated. More details for other relevant Publications should also be provided in your CV and/or Motivation letter - to better support your application. | M10: examiner 1 EVALUATION RESULTS
D12: Education | F12: Experience & Publications
D13: Level of education (Please Select from the list) | E13: Knowledge field of the diploma (Please Select from the list) | F13: Years of proven professional experience after university studies in each research area declared | G13: At least two relevant authored publications in each research area declared | H13: Publication 1: DOI number or weblink (Please fill in the cell) | I13: Publication 2: DOI number or weblink (Please fill in the cell) | J13: Comments | M13: Accepted? (YES/ NO) | N13: Comments
B14: 1. | C14: Initial vocational education and training (IVET) | K14: =IF(D14<>"",COUNTBLANK(E14:I14),"")
B15: 2. | C15: Experiential learning | D15: Master | E15: Qualitative Data Analysis | K15: =IF(D15<>"",COUNTBLANK(E15:I15),"") -> 4
B16: 3. | C16: Qualifications and credentials | K16: =IF(D16<>"",COUNTBLANK(E16:I16),"")
B17: 4. | C17: European VET tools and principles | K17: =IF(D17<>"",COUNTBLANK(E17:I17),"")
B18: 5. | C18: Learning outcomes | D18: Doctorate / PhD | K18: =IF(D18<>"",COUNTBLANK(E18:I18),"") -> 5
B19: 6. | C19: VET policies and systems monitoring and analysis | K19: =IF(D19<>"",COUNTBLANK(E19:I19),"")
B20: 7. | C20: Guidance and counselling | K20: =IF(D20<>"",COUNTBLANK(E20:I20),"")
B21: 8. | C21: Continuing training and skills development for adults | K21: =IF(D21<>"",COUNTBLANK(E21:I21),"")
B22: 9. | C22: Labor market and skills intelligence | K22: =IF(D22<>"",COUNTBLANK(E22:I22),"")
B23: 10. | C23: Qualitative methods | K23: =IF(D23<>"",COUNTBLANK(E23:I23),"")
B24: 11. | C24: Quantitative methods | K24: =IF(D24<>"",COUNTBLANK(E24:I24),"")
B25: 12. | C25: Survey methodology | K25: =IF(D25<>"",COUNTBLANK(E25:I25),"")
B26: 3.3 | C26: Cybersecurity crises management, (including maturity and evaluation frameworks) | K26: =IF(D26<>"",COUNTBLANK(E26:J26),"")
K27: =IF(D27<>"",COUNTBLANK(E27:J27),"")
B28: 3.4 | C28: Management of incident response (Procedures; Processes; Organization, management and operations of team; maturity and evaluation frameworks) | K28: =IF(D28<>"",COUNTBLANK(E28:J28),"")
K29: =IF(D29<>"",COUNTBLANK(E29:J29),"")
B30: 3.5 | C30: DevSecOps and development/use of tools | K30: =IF(D30<>"",COUNTBLANK(E30:J30),"")
K31: =IF(D31<>"",COUNTBLANK(E31:J31),"")
B32: 3.6 | C32: Asset management | K32: =IF(D32<>"",COUNTBLANK(E32:J32),"")
K33: =IF(D33<>"",COUNTBLANK(E33:J33),"")
B34: 3.7 | C34: Cyber threat Intelligence / Threat hunting / Situational awareness | K34: =IF(D34<>"",COUNTBLANK(E34:J34),"")
K35: =IF(D35<>"",COUNTBLANK(E35:J35),"")
B36: 3.8 | C36: Cooperation (international cooperation, community support, cooperation with Law Enforcement Agencies and other stakeholders) | K36: =IF(D36<>"",COUNTBLANK(E36:J36),"")
K37: =IF(D37<>"",COUNTBLANK(E37:J37),"")
B38: 3.9 | C38: Handling of classified information | K38: =IF(D38<>"",COUNTBLANK(E38:J38),"")
K39: =IF(D39<>"",COUNTBLANK(E39:J39),"")
B40: SO4 - Strategic Objective: “Cutting-edge competences and capabilities in cybersecurity across the Union” | F40: experience? | G40: no of months? | H40: Project Reference / Publication | J40: Link to Project / Publication (if available) | K40: =IF(D40<>"",COUNTBLANK(E40:J40),"") | M40: Accepted? (Y / N) | N40: Comments
B41: 4.1 | C41: Designing / Developing training | K41: =IF(D41<>"",COUNTBLANK(E41:J41),"")
K42: =IF(D42<>"",COUNTBLANK(E42:J42),"")
B43: 4.2 | C43: Delivering / Organising / Evaluating training | K43: =IF(D43<>"",COUNTBLANK(E43:J43),"")
K44: =IF(D44<>"",COUNTBLANK(E44:J44),"")
...

Sheet DATA
B3: Please Select
B4: Sociology | C4: 1 - 7 years
B5: Organizational Psychology | C5: 8+ years
B6: Psychology and social psychology | C6: YES
B7: Educational studies | C7: NO
B8: Vocational Education and Training (VET)
B9: Economics
B10: Behavioural Sciences
B11: Statistics | C11: Bachelor
B12: Econometrics | C12: Master
B13: Psychometrics | C13: Doctorate / PhD
B14: Data Science
B15: Data Mining
B16: Survey Methodology
B17: Qualitative Data Analysis
B18: Management studies
B19: Teacher Education
B20: Political sciences
B21: Other
B24: Publications
B25: Certificate
B26: Working environment
B28: Please Select
... B66: NOT ACCEPTED
B70: 1
B71: 0.5

Sheet DATA2
A1: Research Area | B1: Field
A2: Initial vocational education and training (IVET) | B2: Early leaving from IVET
A3: Initial vocational education and training (IVET) | B3: NEETs
A4: Initial vocational education and training (IVET) | B4: Inclusive IVET
A5: Initial vocational education and training (IVET) | B5: Excellence in IVET
A6: Initial vocational education and training (IVET) | B6: Centres of vocational excellence
A7: Initial vocational education and training (IVET) | B7: Teachers and trainers professional development
A8: Initial vocational education and training (IVET) | B8: IVET-industry cooperation and/or partnerships
A9: Experiential learning | B9: Work-based learning
A10: Experiential learning | B10: Workplace learning
A11: Experiential learning | B11: Apprenticeship
A12: Experiential learning | B12: Internship
... A84: Survey methodology | B84: Experiments

Sheet DATA3
A1: No. | B1: Research area | C1: Fields (Non-exhaustive)
A2: 1 | B2: Initial vocational education and training (IVET) | C2: Early leaving from IVET; NEETs; inclusive IVET; excellence in IVET; Centres of vocational excellence; teachers and trainers professional development; IVET-industry cooperation and/or partnerships
A3: 2 | B3: Experiential learning | C3: Work-based learning; workplace learning; apprenticeship; internship; project-based learning; community of practice
A4: 3 | B4: Qualifications and credentials | C4: Microcredentials; digital badges/credentials; European Qualifications Framework; National Qualifications Frameworks
A5: 4 | B5: European VET tools and principles | C5: Quality assurance in VET; Validation of informal and non-formal learning; Recognition of qualifications; Credit systems for education and training; Mobility of learners and workers
A6: 5 | B6: Learning outcomes | C6: Learning outcomes design and assessment; Modularisation; Occupational and educational standards; Curriculum; Key/transversal competences in IVET
A7: 6 | B7: VET policies and systems monitoring and analysis | C7: Monitoring VET policies; tracking progress on policy targets; policy analysis and evaluation
A8: 7 | B8: Guidance and counselling | C8: Lifelong career guidance; educational guidance; guidance and school-to-work transition; guidance for reskilling and upskilling of adults; labour market information for guidance
A9: 8 | B9: Continuing training and skills development for adults | C9: Continuing training; adult learning; reskilling and upskilling of adults; learning and skills utilisation in workplaces; training as human resource practice; skills sourcing; learning organizations; financial and non-financial incentives for learning for individuals and/or companies
A10: 9 | B10: Labor market and skills intelligence | C10: Forecasts; foresights; scenario analysis; web intelligence data analysis; sectoral analysis; matching skills demand and supply; outcomes and impact analysis and evaluation
A11: 10 | B11: Qualitative methods | C11: Case studies; narrative interviews; ethnographic studies; grounded theory; stakeholder interviews; focus groups; structured and semi-structured interviews
A12: 11 | B12: Quantitative methods | C12: Data analysis; structural equation modelling; causal analysis; policy evaluation; instrumental variables; data mining; neural and social networks; machine learning; big data
A13: 12 | B13: Survey methodology | C13: Sampling methods; probability and non-probability sampling; questionnaire design; vignettes; experiments
